BEGIN:VCALENDAR
VERSION:2.0
PRODID:-//pretix//pretix.eu//
BEGIN:VTIMEZONE
TZID:Europe/Berlin
BEGIN:STANDARD
DTSTART:20001029T040000
RRULE:FREQ=YEARLY;BYDAY=-1SU;BYMONTH=10
TZNAME:CET
TZOFFSETFROM:+0200
TZOFFSETTO:+0100
END:STANDARD
BEGIN:DAYLIGHT
DTSTART:20000326T030000
RRULE:FREQ=YEARLY;BYDAY=-1SU;BYMONTH=3
TZNAME:CEST
TZOFFSETFROM:+0100
TZOFFSETTO:+0200
END:DAYLIGHT
END:VTIMEZONE
BEGIN:VEVENT
UID:pretix-darc-sdr-2020-0@events.darc.de
DTSTART;TZID=Europe/Berlin:20200221T190000
DTEND;TZID=Europe/Berlin:20200222T170000
DESCRIPTION:Tickets: https://events.darc.de/sdr-2020/\nVeranstalter: Deutsc
 her Amateur-Radio-Club e. V.
DTSTAMP:20260425T122942Z
LOCATION:DARC-Geschäftsstelle\, Lindenallee 4\, 34225 Baunatal
SUMMARY:Grundlagen der digitalen Nachrichtenübertragung für SDR
END:VEVENT
END:VCALENDAR
