BEGIN:VCALENDAR
VERSION:2.0
PRODID:-//pretix//pretix.eu//
BEGIN:VEVENT
UID:pretix-darc-nfawe-05-2025-0@events.darc.de
DTSTART;VALUE=DATE:20250529
DTEND;VALUE=DATE:20250602
DESCRIPTION:Tickets: https://events.darc.de/nfawe-05-2025/\nVeranstalter: D
 eutscher Amateur-Radio-Club e. V.
DTSTAMP:20260424T055446Z
LOCATION:Bergheider Str. 4\, 03238 Lichterfeld-Schacksdorf
SUMMARY:Notfunk-Ausbildungswochenende - Mai 2025
END:VEVENT
END:VCALENDAR
