BEGIN:VCALENDAR
VERSION:2.0
PRODID:-//pretix//pretix.eu//
BEGIN:VTIMEZONE
TZID:Europe/Berlin
BEGIN:STANDARD
DTSTART:20001029T040000
RRULE:FREQ=YEARLY;BYDAY=-1SU;BYMONTH=10
TZNAME:CET
TZOFFSETFROM:+0200
TZOFFSETTO:+0100
END:STANDARD
BEGIN:DAYLIGHT
DTSTART:20000326T030000
RRULE:FREQ=YEARLY;BYDAY=-1SU;BYMONTH=3
TZNAME:CEST
TZOFFSETFROM:+0100
TZOFFSETTO:+0200
END:DAYLIGHT
END:VTIMEZONE
BEGIN:VEVENT
UID:pretix-darc-barcamp-2023-0@events.darc.de
DTSTART;TZID=Europe/Berlin:20230909T100000
DTEND;TZID=Europe/Berlin:20230910T160000
DESCRIPTION:Tickets: https://events.darc.de/barcamp-2023/\nVeranstalter: De
 utscher Amateur-Radio-Club e. V.
DTSTAMP:20260421T120636Z
LOCATION:DARC-Amateurfunkzentrum\, Lindenallee 6\, 34225 Baunatal
SUMMARY:AfuBarcamp des DARC e.V.
END:VEVENT
END:VCALENDAR
