BEGIN:VCALENDAR
VERSION:2.0
PRODID:-//pretix//pretix.eu//
BEGIN:VTIMEZONE
TZID:Europe/Berlin
BEGIN:STANDARD
DTSTART:20001029T040000
RRULE:FREQ=YEARLY;BYDAY=-1SU;BYMONTH=10
TZNAME:CET
TZOFFSETFROM:+0200
TZOFFSETTO:+0100
END:STANDARD
BEGIN:DAYLIGHT
DTSTART:20000326T030000
RRULE:FREQ=YEARLY;BYDAY=-1SU;BYMONTH=3
TZNAME:CEST
TZOFFSETFROM:+0100
TZOFFSETTO:+0200
END:DAYLIGHT
END:VTIMEZONE
BEGIN:VEVENT
UID:pretix-darc-EReihe-M15-0@events.darc.de
DTSTART;TZID=Europe/Berlin:20220106T190000
DTEND;TZID=Europe/Berlin:20220106T210000
DESCRIPTION:Tickets: https://events.darc.de/EReihe-M15/\nVeranstalter: Deut
 scher Amateur-Radio-Club e. V.
DTSTAMP:20260426T014505Z
LOCATION:DARC treff.darc.de
SUMMARY:Unterstützung des Ehrenamtes / Modul 15
END:VEVENT
END:VCALENDAR
