BEGIN:VCALENDAR
VERSION:2.0
PRODID:-//pretix//pretix.eu//
BEGIN:VTIMEZONE
TZID:Europe/Berlin
BEGIN:STANDARD
DTSTART:20001029T040000
RRULE:FREQ=YEARLY;BYDAY=-1SU;BYMONTH=10
TZNAME:CET
TZOFFSETFROM:+0200
TZOFFSETTO:+0100
END:STANDARD
BEGIN:DAYLIGHT
DTSTART:20000326T030000
RRULE:FREQ=YEARLY;BYDAY=-1SU;BYMONTH=3
TZNAME:CEST
TZOFFSETFROM:+0100
TZOFFSETTO:+0200
END:DAYLIGHT
END:VTIMEZONE
BEGIN:VEVENT
UID:pretix-darc-75jahredarc-0@events.darc.de
DTSTART;TZID=Europe/Berlin:20250830T190000
DTEND;TZID=Europe/Berlin:20250830T200000
DESCRIPTION:Tickets: https://events.darc.de/75jahredarc/\nEinlass: 30.08.20
 25 18:30\nVeranstalter: Deutscher Amateur-Radio-Club e. V.
DTSTAMP:20260425T122942Z
LOCATION:Stadthalle Baunatal Kultur-und Tagungszentrum\, Marktplatz 14\, 34
 225 Baunatal
SUMMARY:75 Jahre DARC – Festakt
END:VEVENT
END:VCALENDAR
